BEGIN:VCALENDAR
VERSION:2.0
PRODID:-//demokratisch.offen.neuss. - ECPv6.15.15//NONSGML v1.0//EN
CALSCALE:GREGORIAN
METHOD:PUBLISH
X-WR-CALNAME:demokratisch.offen.neuss.
X-ORIGINAL-URL:https://www.demokratisch-offen-neuss.de
X-WR-CALDESC:Veranstaltungen für demokratisch.offen.neuss.
REFRESH-INTERVAL;VALUE=DURATION:PT1H
X-Robots-Tag:noindex
X-PUBLISHED-TTL:PT1H
BEGIN:VTIMEZONE
TZID:Europe/Berlin
BEGIN:DAYLIGHT
TZOFFSETFROM:+0100
TZOFFSETTO:+0200
TZNAME:CEST
DTSTART:20250330T010000
END:DAYLIGHT
BEGIN:STANDARD
TZOFFSETFROM:+0200
TZOFFSETTO:+0100
TZNAME:CET
DTSTART:20251026T010000
END:STANDARD
BEGIN:DAYLIGHT
TZOFFSETFROM:+0100
TZOFFSETTO:+0200
TZNAME:CEST
DTSTART:20260329T010000
END:DAYLIGHT
BEGIN:STANDARD
TZOFFSETFROM:+0200
TZOFFSETTO:+0100
TZNAME:CET
DTSTART:20261025T010000
END:STANDARD
BEGIN:DAYLIGHT
TZOFFSETFROM:+0100
TZOFFSETTO:+0200
TZNAME:CEST
DTSTART:20270328T010000
END:DAYLIGHT
BEGIN:STANDARD
TZOFFSETFROM:+0200
TZOFFSETTO:+0100
TZNAME:CET
DTSTART:20271031T010000
END:STANDARD
END:VTIMEZONE
BEGIN:VEVENT
DTSTART;TZID=Europe/Berlin:20260309T160000
DTEND;TZID=Europe/Berlin:20260309T180000
DTSTAMP:20260421T204118
CREATED:20260304T123548Z
LAST-MODIFIED:20260304T123548Z
UID:300-1773072000-1773079200@www.demokratisch-offen-neuss.de
SUMMARY:Frauen*streik-Demo
DESCRIPTION:We will make visible what otherwise remains invisible:\nCare work\, stress\, inequality – and the structures that make it all possible.\nThis also includes racism and racist working conditions\, which many people in Germany experience on a daily basis. Black women\, women of color and migrant women in particular bear the heaviest burdens of sexism\, racism and precarious working conditions – in care work\, in the labor market and in everyday life. \nThe women’s strike is not a symbolic gesture.\nIt is a collective moment in which we refuse to carry on as before.\nAnd it is not just aimed at women\, but at everyone who is affected by inequality – whether through sexism\, racism\, precarity\, disability\, queer hostility – or anyone who wants to act in solidarity.
URL:https://www.demokratisch-offen-neuss.de/termin/frauenstreik-demo/
LOCATION:Münsterplatz Neuss\, Münsterplatz\, Neuss\, 41460
END:VEVENT
BEGIN:VEVENT
DTSTART;TZID=Europe/Berlin:20260309T190000
DTEND;TZID=Europe/Berlin:20260309T210000
DTSTAMP:20260421T204118
CREATED:20260128T211900Z
LAST-MODIFIED:20260128T211900Z
UID:223-1773082800-1773090000@www.demokratisch-offen-neuss.de
SUMMARY:Plenum
DESCRIPTION:Kommt gerne einfach vorbei!
URL:https://www.demokratisch-offen-neuss.de/termin/plenum-4/
LOCATION:Further Hof\, Further Straße 110\, Neuss\, 41462
END:VEVENT
BEGIN:VEVENT
DTSTART;TZID=Europe/Berlin:20260318T180000
DTEND;TZID=Europe/Berlin:20260318T193000
DTSTAMP:20260421T204118
CREATED:20260306T084710Z
LAST-MODIFIED:20260306T084710Z
UID:304-1773856800-1773862200@www.demokratisch-offen-neuss.de
SUMMARY:Buchvorstellung: „100 Köpfe der Demokratie“
DESCRIPTION:Wer hat die deutsche Demokratie mitgestaltet? Das Autorengespann führt in dem Sachbuch „100 Köpfe der Demokratie“ die große Bandbreite demokratischen Handelns und Wirkens in zwei Jahrhunderten in Deutschland vor Augen. Die Lebensläufe dieser 100 Männer und Frauen aus unterschiedlichen Regionen\, Klassen\, Schichten und Milieus stehen beispielhaft für vielfältige Ideen und Vorstellungen von „Demokratie“\, für Konzeptionen von politischer\, gesellschaftlicher und ökonomischer Teilhabe und Partizipation. Was sie eint: der Kampf um gesellschaftliche Teilhabe und ein gerechteres Miteinander.
URL:https://www.demokratisch-offen-neuss.de/termin/buchvorstellung-100-koepfe-der-demokratie/
LOCATION:Stadtbibliothek Neuss\, Neumarkt 10\, Neuss\, 41460
END:VEVENT
BEGIN:VEVENT
DTSTART;TZID=Europe/Berlin:20260320T180000
DTEND;TZID=Europe/Berlin:20260320T200000
DTSTAMP:20260421T204118
CREATED:20260315T115604Z
LAST-MODIFIED:20260315T115644Z
UID:312-1774029600-1774036800@www.demokratisch-offen-neuss.de
SUMMARY:Demokratie und Vielfalt
DESCRIPTION:Diskussionsabend
URL:https://www.demokratisch-offen-neuss.de/termin/demokratie-und-vielfalt/
LOCATION:Further Hof\, Further Straße 110\, Neuss\, 41462
END:VEVENT
END:VCALENDAR