BEGIN:VCALENDAR
VERSION:2.0
PRODID:-//demokratisch.offen.neuss. - ECPv6.15.15//NONSGML v1.0//EN
CALSCALE:GREGORIAN
METHOD:PUBLISH
X-WR-CALNAME:demokratisch.offen.neuss.
X-ORIGINAL-URL:https://www.demokratisch-offen-neuss.de
X-WR-CALDESC:Veranstaltungen für demokratisch.offen.neuss.
REFRESH-INTERVAL;VALUE=DURATION:PT1H
X-Robots-Tag:noindex
X-PUBLISHED-TTL:PT1H
BEGIN:VTIMEZONE
TZID:Europe/Berlin
BEGIN:DAYLIGHT
TZOFFSETFROM:+0100
TZOFFSETTO:+0200
TZNAME:CEST
DTSTART:20250330T010000
END:DAYLIGHT
BEGIN:STANDARD
TZOFFSETFROM:+0200
TZOFFSETTO:+0100
TZNAME:CET
DTSTART:20251026T010000
END:STANDARD
BEGIN:DAYLIGHT
TZOFFSETFROM:+0100
TZOFFSETTO:+0200
TZNAME:CEST
DTSTART:20260329T010000
END:DAYLIGHT
BEGIN:STANDARD
TZOFFSETFROM:+0200
TZOFFSETTO:+0100
TZNAME:CET
DTSTART:20261025T010000
END:STANDARD
BEGIN:DAYLIGHT
TZOFFSETFROM:+0100
TZOFFSETTO:+0200
TZNAME:CEST
DTSTART:20270328T010000
END:DAYLIGHT
BEGIN:STANDARD
TZOFFSETFROM:+0200
TZOFFSETTO:+0100
TZNAME:CET
DTSTART:20271031T010000
END:STANDARD
END:VTIMEZONE
BEGIN:VEVENT
DTSTART;TZID=Europe/Berlin:20260209T190000
DTEND;TZID=Europe/Berlin:20260209T210000
DTSTAMP:20260421T221927
CREATED:20260117T200759Z
LAST-MODIFIED:20260117T200759Z
UID:201-1770663600-1770670800@www.demokratisch-offen-neuss.de
SUMMARY:Plenum
DESCRIPTION:Kommt gerne einfach vorbei!
URL:https://www.demokratisch-offen-neuss.de/termin/plenum-3/
LOCATION:Further Hof\, Further Straße 110\, Neuss\, 41462
END:VEVENT
BEGIN:VEVENT
DTSTART;TZID=Europe/Berlin:20260223T170000
DTEND;TZID=Europe/Berlin:20260223T180000
DTSTAMP:20260421T221927
CREATED:20260128T144452Z
LAST-MODIFIED:20260128T144452Z
UID:217-1771866000-1771869600@www.demokratisch-offen-neuss.de
SUMMARY:Keine Bühne für Faschisten!
DESCRIPTION:Die AfD hat den Faschisten Björn Höcke für einen Vortrag in das Bürgerhaus Süd in Garath eingeladen. Björn Höcke steht für Ausgrenzung\, Geschichtsrevisionismus und eine Politik der Spaltung. Dem stellen wir uns entschieden entgegen! \nKommt vorbei und setzt gemeinsam mit uns ein klares Zeichen für Demokratie\, Vielfalt und Menschenwürde. Bei uns gibt es keinen Platz für Hass und Hetze! Seid laut und zeigt euch solidarisch!
URL:https://www.demokratisch-offen-neuss.de/termin/keine-buehne-fuer-faschisten/
LOCATION:Garath S-Bahn
ORGANIZER;CN="DGB":MAILTO:duesseldorf@dgb.de
END:VEVENT
END:VCALENDAR