BEGIN:VCALENDAR
VERSION:2.0
PRODID:-//demokratisch.offen.neuss. - ECPv6.15.15//NONSGML v1.0//EN
CALSCALE:GREGORIAN
METHOD:PUBLISH
X-WR-CALNAME:demokratisch.offen.neuss.
X-ORIGINAL-URL:https://www.demokratisch-offen-neuss.de
X-WR-CALDESC:Veranstaltungen für demokratisch.offen.neuss.
REFRESH-INTERVAL;VALUE=DURATION:PT1H
X-Robots-Tag:noindex
X-PUBLISHED-TTL:PT1H
BEGIN:VTIMEZONE
TZID:Europe/Berlin
BEGIN:DAYLIGHT
TZOFFSETFROM:+0100
TZOFFSETTO:+0200
TZNAME:CEST
DTSTART:20250330T010000
END:DAYLIGHT
BEGIN:STANDARD
TZOFFSETFROM:+0200
TZOFFSETTO:+0100
TZNAME:CET
DTSTART:20251026T010000
END:STANDARD
BEGIN:DAYLIGHT
TZOFFSETFROM:+0100
TZOFFSETTO:+0200
TZNAME:CEST
DTSTART:20260329T010000
END:DAYLIGHT
BEGIN:STANDARD
TZOFFSETFROM:+0200
TZOFFSETTO:+0100
TZNAME:CET
DTSTART:20261025T010000
END:STANDARD
BEGIN:DAYLIGHT
TZOFFSETFROM:+0100
TZOFFSETTO:+0200
TZNAME:CEST
DTSTART:20270328T010000
END:DAYLIGHT
BEGIN:STANDARD
TZOFFSETFROM:+0200
TZOFFSETTO:+0100
TZNAME:CET
DTSTART:20271031T010000
END:STANDARD
END:VTIMEZONE
BEGIN:VEVENT
DTSTART;TZID=Europe/Berlin:20260109T190000
DTEND;TZID=Europe/Berlin:20260109T210000
DTSTAMP:20260422T000324
CREATED:20251130T171000Z
LAST-MODIFIED:20251130T171000Z
UID:145-1767985200-1767992400@www.demokratisch-offen-neuss.de
SUMMARY:Plenum
DESCRIPTION:
URL:https://www.demokratisch-offen-neuss.de/termin/plenum/
LOCATION:Further Hof\, Further Straße 110\, Neuss\, 41462
END:VEVENT
BEGIN:VEVENT
DTSTART;TZID=Europe/Berlin:20260131T110000
DTEND;TZID=Europe/Berlin:20260131T140000
DTSTAMP:20260422T000324
CREATED:20260117T201021Z
LAST-MODIFIED:20260125T121411Z
UID:203-1769857200-1769868000@www.demokratisch-offen-neuss.de
SUMMARY:Infostand "Markt der Möglichkeiten"
DESCRIPTION:Beim „Markt der Möglichkeiten“ während des Neujahrsempfangs der Neusser Grünen sind wir mit einem Infostand zu unserer Initiative vertreten.
URL:https://www.demokratisch-offen-neuss.de/termin/infostand-neujahrsempfang-buendnis90-die-gruenen/
LOCATION:Rheinisches Landestheater\, Oberstraße 95\, Neuss
END:VEVENT
END:VCALENDAR