BEGIN:VCALENDAR
VERSION:2.0
PRODID:-//demokratisch.offen.neuss. - ECPv6.15.15//NONSGML v1.0//EN
CALSCALE:GREGORIAN
METHOD:PUBLISH
X-ORIGINAL-URL:https://www.demokratisch-offen-neuss.de
X-WR-CALDESC:Veranstaltungen für demokratisch.offen.neuss.
REFRESH-INTERVAL;VALUE=DURATION:PT1H
X-Robots-Tag:noindex
X-PUBLISHED-TTL:PT1H
BEGIN:VTIMEZONE
TZID:Europe/Berlin
BEGIN:DAYLIGHT
TZOFFSETFROM:+0100
TZOFFSETTO:+0200
TZNAME:CEST
DTSTART:20240331T010000
END:DAYLIGHT
BEGIN:STANDARD
TZOFFSETFROM:+0200
TZOFFSETTO:+0100
TZNAME:CET
DTSTART:20241027T010000
END:STANDARD
BEGIN:DAYLIGHT
TZOFFSETFROM:+0100
TZOFFSETTO:+0200
TZNAME:CEST
DTSTART:20250330T010000
END:DAYLIGHT
BEGIN:STANDARD
TZOFFSETFROM:+0200
TZOFFSETTO:+0100
TZNAME:CET
DTSTART:20251026T010000
END:STANDARD
BEGIN:DAYLIGHT
TZOFFSETFROM:+0100
TZOFFSETTO:+0200
TZNAME:CEST
DTSTART:20260329T010000
END:DAYLIGHT
BEGIN:STANDARD
TZOFFSETFROM:+0200
TZOFFSETTO:+0100
TZNAME:CET
DTSTART:20261025T010000
END:STANDARD
END:VTIMEZONE
BEGIN:VEVENT
DTSTART;TZID=Europe/Berlin:20251017T161500
DTEND;TZID=Europe/Berlin:20251017T174500
DTSTAMP:20260422T052513
CREATED:20251017T144554Z
LAST-MODIFIED:20251017T144554Z
UID:24-1760717700-1760723100@www.demokratisch-offen-neuss.de
SUMMARY:Offenes Treffen im Foyer des RLT
DESCRIPTION:Einige von uns treffen sich im offenen Foyer des Rheinischen Landestheaters\, um Ideen zu DON auszutauschen. Kommt gerne dazu und lernt uns kennen!
URL:https://www.demokratisch-offen-neuss.de/termin/offenes-treffen-im-foyer-des-rlt/
LOCATION:Foyer des Rheinischen Landestheaters\, Oberstraße 95\, Neuss\, 41460\, Germany
END:VEVENT
BEGIN:VEVENT
DTSTART;TZID=Europe/Berlin:20251024T161500
DTEND;TZID=Europe/Berlin:20251024T174500
DTSTAMP:20260422T052513
CREATED:20251017T154651Z
LAST-MODIFIED:20251017T154925Z
UID:41-1761322500-1761327900@www.demokratisch-offen-neuss.de
SUMMARY:Offenes Treffen im Foyer des RLT
DESCRIPTION:Einige von uns treffen sich Freitag nachmittags im offenen Foyer des Rheinischen Landestheaters\, um Ideen zu DON auszutauschen. Kommt gerne dazu und lernt uns kennen!
URL:https://www.demokratisch-offen-neuss.de/termin/offenes-treffen-im-foyer-des-rheinischen-landestheaters/
LOCATION:Foyer des Rheinischen Landestheaters\, Oberstraße 95\, Neuss\, 41460\, Germany
END:VEVENT
BEGIN:VEVENT
DTSTART;TZID=Europe/Berlin:20251031T161500
DTEND;TZID=Europe/Berlin:20251031T174500
DTSTAMP:20260422T052513
CREATED:20251017T154724Z
LAST-MODIFIED:20251017T154915Z
UID:43-1761927300-1761932700@www.demokratisch-offen-neuss.de
SUMMARY:Offenes Treffen im Foyer des RLT
DESCRIPTION:Einige von uns treffen sich Freitag nachmittags im offenen Foyer des Rheinischen Landestheaters\, um Ideen zu DON auszutauschen. Kommt gerne dazu und lernt uns kennen!
URL:https://www.demokratisch-offen-neuss.de/termin/offenes-treffen-im-foyer-des-rheinischen-landestheaters-2/
LOCATION:Foyer des Rheinischen Landestheaters\, Oberstraße 95\, Neuss\, 41460\, Germany
END:VEVENT
END:VCALENDAR